BEGIN:VCALENDAR
VERSION:2.0
PRODID:-//Tukios.com/
BEGIN:VEVENT
UID:d5bfddc1-4fe8-43b0-acee-6fdf18d9462f@www.stjohnfh.com
DTSTAMP:20260421T040517Z
DTSTART:20260423T210000Z
DTEND:20260423T230000Z
SUMMARY:Visitation
DESCRIPTION:
URL:https://www.stjohnfh.com/obituaries/ann-marie-rusko
LOCATION: 16381 Chillicothe Rd  Chagrin Falls OH 44023
GEO:41.4231332;-81.3370729
END:VEVENT
END:VCALENDAR