BEGIN:VCALENDAR
VERSION:2.0
PRODID:-//Tukios.com/
BEGIN:VEVENT
UID:f638778f-d6eb-4bae-8799-0c31e9b4580a@www.stjohnfh.com
DTSTAMP:20260421T040502Z
DTSTART:20260424T184500Z
DTEND:20260424T194500Z
SUMMARY:Burial
DESCRIPTION:
URL:https://www.stjohnfh.com/obituaries/ann-marie-rusko
LOCATION: 480 W Highland Rd  Northfield OH 44067
GEO:41.292158;-81.535045
END:VEVENT
END:VCALENDAR