BEGIN:VCALENDAR
VERSION:2.0
PRODID:-//Tukios.com/
BEGIN:VEVENT
UID:e83e4b33-4d6d-4b4b-9a62-67a308dfffa9@www.stjohnfh.com
DTSTAMP:20260424T221551Z
DTSTART:20260428T200000Z
DTEND:20260429T000000Z
SUMMARY:Visitation
DESCRIPTION:
URL:https://www.stjohnfh.com/obituaries/jean-pund
LOCATION: 923 Broadway Ave  Bedford OH 44146
GEO:41.3867117;-81.5292217
END:VEVENT
END:VCALENDAR