BEGIN:VCALENDAR
VERSION:2.0
PRODID:-//Tukios.com/
BEGIN:VEVENT
UID:85fcd893-c358-45da-9454-79d701a3677b@www.stjohnfh.com
DTSTAMP:20260424T221525Z
DTSTART:20260429T140000Z
DTEND:20260429T150000Z
SUMMARY:Funeral Service
DESCRIPTION:
URL:https://www.stjohnfh.com/obituaries/jean-pund
LOCATION: 923 Broadway Ave  Bedford OH 44146
GEO:41.3867117;-81.5292217
END:VEVENT
END:VCALENDAR