BEGIN:VCALENDAR
VERSION:2.0
PRODID:-//Tukios.com/
BEGIN:VEVENT
UID:0dcbd701-6878-4c45-8105-49059fd01fdb@www.stjohnfh.com
DTSTAMP:20260424T221428Z
DTSTART:20260429
SUMMARY:Burial
DESCRIPTION:Burial to follow funeral service.
URL:https://www.stjohnfh.com/obituaries/jean-pund
LOCATION: 1678 Som Center Rd  Mayfield Heights OH 44124
GEO:41.512817;-81.444307
END:VEVENT
END:VCALENDAR