BEGIN:VCALENDAR
VERSION:2.0
PRODID:-//Tukios.com/
BEGIN:VEVENT
UID:f19ebbbe-e905-40c5-baba-4c002ccf3480@www.stjohnfh.com
DTSTAMP:20260424T232158Z
DTSTART:20260426T180000Z
DTEND:20260426T230000Z
SUMMARY:Visitation
DESCRIPTION:
URL:https://www.stjohnfh.com/obituaries/marilyn-zolata
LOCATION: 923 Broadway Ave  Bedford OH 44146
GEO:41.3867117;-81.5292217
END:VEVENT
END:VCALENDAR