BEGIN:VCALENDAR
VERSION:2.0
PRODID:-//Tukios.com/
BEGIN:VEVENT
UID:4d769302-fbc2-4587-905e-86be4cdc6916@www.stjohnfh.com
DTSTAMP:20260424T232258Z
DTSTART:20260427T150000Z
DTEND:20260427T160000Z
SUMMARY:Mass
DESCRIPTION:
URL:https://www.stjohnfh.com/obituaries/marilyn-zolata
LOCATION: 340 Union St  Bedford OH 44146
GEO:41.3803807;-81.5246705
END:VEVENT
END:VCALENDAR