BEGIN:VCALENDAR
VERSION:2.0
PRODID:-//Tukios.com/
BEGIN:VEVENT
UID:bd5c4b0d-31b6-4de8-b1a4-a0c972424b74@www.stjohnfh.com
DTSTAMP:20260424T232038Z
DTSTART:20260427
SUMMARY:Burial
DESCRIPTION:Burial to follow Mass.
URL:https://www.stjohnfh.com/obituaries/marilyn-zolata
LOCATION: 999 Broadway Ave  Bedford OH 44146
GEO:41.3859758;-81.527815
END:VEVENT
END:VCALENDAR