BEGIN:VCALENDAR
VERSION:2.0
PRODID:-//Tukios.com/
BEGIN:VEVENT
UID:4de3a139-b8f8-4465-852c-7cfce553aae7@www.stjohnfh.com
DTSTAMP:20260422T002232Z
DTSTART:20260423T180000Z
DTEND:20260424T000000Z
SUMMARY:Visitation
DESCRIPTION:
URL:https://www.stjohnfh.com/obituaries/mary-romito
LOCATION:St. John Funeral Home 923 Broadway Avenue  Bedford OH 44146
GEO:41.3867117;-81.5292217
END:VEVENT
END:VCALENDAR