BEGIN:VCALENDAR
VERSION:2.0
PRODID:-//Tukios.com/
BEGIN:VEVENT
UID:a60faa81-60c5-452d-bb42-8e7029138f02@www.stjohnfh.com
DTSTAMP:20260422T002611Z
DTSTART:20260424T150000Z
DTEND:20260424T160000Z
SUMMARY:Mass
DESCRIPTION:
URL:https://www.stjohnfh.com/obituaries/mary-romito
LOCATION:St. Mary’s Church 340 Union Street  Bedford OH 44146
GEO:41.3803245;-81.5250703
END:VEVENT
END:VCALENDAR