BEGIN:VCALENDAR
VERSION:2.0
PRODID:-//Tukios.com/
BEGIN:VEVENT
UID:fc1fcdfa-368f-4bf6-8126-6d2f42b2b642@www.stjohnfh.com
DTSTAMP:20260422T002523Z
DTSTART:20260424
SUMMARY:Burial
DESCRIPTION:
URL:https://www.stjohnfh.com/obituaries/mary-romito
LOCATION: 480 W Highland Rd  Northfield OH 44067
GEO:41.292158;-81.535045
END:VEVENT
END:VCALENDAR